BEGIN:VCALENDAR
VERSION:2.0
PRODID:-//Virtual Reality Suite - ECPv6.1.3//NONSGML v1.0//EN
CALSCALE:GREGORIAN
METHOD:PUBLISH
X-ORIGINAL-URL:https://present4d.com/en/
X-WR-CALDESC:Events for Virtual Reality Suite
REFRESH-INTERVAL;VALUE=DURATION:PT1H
X-Robots-Tag:noindex
X-PUBLISHED-TTL:PT1H
BEGIN:VTIMEZONE
TZID:Europe/Berlin
BEGIN:DAYLIGHT
TZOFFSETFROM:+0100
TZOFFSETTO:+0200
TZNAME:CEST
DTSTART:20190331T010000
END:DAYLIGHT
BEGIN:STANDARD
TZOFFSETFROM:+0200
TZOFFSETTO:+0100
TZNAME:CET
DTSTART:20191027T010000
END:STANDARD
BEGIN:DAYLIGHT
TZOFFSETFROM:+0100
TZOFFSETTO:+0200
TZNAME:CEST
DTSTART:20200329T010000
END:DAYLIGHT
BEGIN:STANDARD
TZOFFSETFROM:+0200
TZOFFSETTO:+0100
TZNAME:CET
DTSTART:20201025T010000
END:STANDARD
END:VTIMEZONE
BEGIN:VEVENT
DTSTART;TZID=Europe/Berlin:20200415T180000
DTEND;TZID=Europe/Berlin:20200415T183000
DTSTAMP:20260423T194656
CREATED:20190722T090310Z
LAST-MODIFIED:20200116T104656Z
UID:13426-1586973600-1586975400@present4d.com
SUMMARY:Overview and introduction to the VR-Suite (30 minutes)
DESCRIPTION:Create a VR presentation in just a couple of minutes with the VR-Suite. Learn how to use your existing media and information in a totally new and innovative way. \nNo software is needed to participate in the Webinar\, you can view it in your web browser from any device. \nRegister now for free: \nRegister Now
URL:https://present4d.com/en/webinar/webinar-how-to-create-a-vr-presentation-4-2-14-2-2-2-2-2-2-2-2/
END:VEVENT
BEGIN:VEVENT
DTSTART;TZID=Europe/Berlin:20200311T140000
DTEND;TZID=Europe/Berlin:20200311T143000
DTSTAMP:20260423T194656
CREATED:20190722T090310Z
LAST-MODIFIED:20200116T104419Z
UID:13422-1583935200-1583937000@present4d.com
SUMMARY:Overview and introduction to the VR-Suite (30 minutes)
DESCRIPTION:Create a VR presentation in just a couple of minutes with the VR-Suite. Learn how to use your existing media and information in a totally new and innovative way. \nNo software is needed to participate in the Webinar\, you can view it in your web browser from any device. \nRegister now for free: \nRegister Now
URL:https://present4d.com/en/webinar/webinar-how-to-create-a-vr-presentation-4-2-14-2-2-2-2-2-2-2/
END:VEVENT
BEGIN:VEVENT
DTSTART;TZID=Europe/Berlin:20200226T183000
DTEND;TZID=Europe/Berlin:20200226T190000
DTSTAMP:20260423T194656
CREATED:20190722T090310Z
LAST-MODIFIED:20200116T104818Z
UID:13418-1582741800-1582743600@present4d.com
SUMMARY:Overview and introduction to the VR-Suite (30 minutes)
DESCRIPTION:Create a VR presentation in just a couple of minutes with the VR-Suite. Learn how to use your existing media and information in a totally new and innovative way. \nNo software is needed to participate in the Webinar\, you can view it in your web browser from any device. \nRegister now for free: \nRegister Now
URL:https://present4d.com/en/webinar/webinar-how-to-create-a-vr-presentation-4-2-14-2-2-2-2-2-2/
END:VEVENT
BEGIN:VEVENT
DTSTART;TZID=Europe/Berlin:20200212T093000
DTEND;TZID=Europe/Berlin:20200212T100000
DTSTAMP:20260423T194656
CREATED:20190722T090310Z
LAST-MODIFIED:20200116T103510Z
UID:13414-1581499800-1581501600@present4d.com
SUMMARY:Overview and introduction to the VR-Suite (30 minutes)
DESCRIPTION:Create a VR presentation in just a couple of minutes with the VR-Suite. Learn how to use your existing media and information in a totally new and innovative way. \nNo software is needed to participate in the Webinar\, you can view it in your web browser from any device. \nRegister now for free: \nRegister Now
URL:https://present4d.com/en/webinar/webinar-how-to-create-a-vr-presentation-4-2-14-2-2-2-2-2/
END:VEVENT
BEGIN:VEVENT
DTSTART;TZID=Europe/Berlin:20200129T153000
DTEND;TZID=Europe/Berlin:20200129T160000
DTSTAMP:20260423T194656
CREATED:20190722T090310Z
LAST-MODIFIED:20200116T103108Z
UID:13410-1580311800-1580313600@present4d.com
SUMMARY:Overview and introduction to the VR-Suite (30 minutes)
DESCRIPTION:Create a VR presentation in just a couple of minutes with the VR-Suite. Learn how to use your existing media and information in a totally new and innovative way. \nNo software is needed to participate in the Webinar\, you can view it in your web browser from any device. \nRegister now for free: \nRegister Now
URL:https://present4d.com/en/webinar/webinar-how-to-create-a-vr-presentation-4-2-14-2-2-2-2/
END:VEVENT
BEGIN:VEVENT
DTSTART;TZID=Europe/Berlin:20191211T180000
DTEND;TZID=Europe/Berlin:20191211T183000
DTSTAMP:20260423T194656
CREATED:20190722T090310Z
LAST-MODIFIED:20191107T090024Z
UID:12502-1576087200-1576089000@present4d.com
SUMMARY:Overview and introduction to the VR-Suite (30 minutes)
DESCRIPTION:Create a VR presentation in just a couple of minutes with the VR-Suite. Learn how to use your existing media and information in a totally new and innovative way. \nNo software is needed to participate in the Webinar\, you can view it in your web browser from any device. \nRegister now for free: \nRegister Now
URL:https://present4d.com/en/webinar/webinar-how-to-create-a-vr-presentation-4-2-14-2-2-2/
END:VEVENT
BEGIN:VEVENT
DTSTART;TZID=Europe/Berlin:20191127T120000
DTEND;TZID=Europe/Berlin:20191127T123000
DTSTAMP:20260423T194656
CREATED:20190722T090310Z
LAST-MODIFIED:20191107T085914Z
UID:12498-1574856000-1574857800@present4d.com
SUMMARY:Overview and introduction to the VR-Suite (30 minutes)
DESCRIPTION:Create a VR presentation in just a couple of minutes with the VR-Suite. Learn how to use your existing media and information in a totally new and innovative way. \nNo software is needed to participate in the Webinar\, you can view it in your web browser from any device. \nRegister now for free: \nRegister Now
URL:https://present4d.com/en/webinar/webinar-how-to-create-a-vr-presentation-4-2-14-2-2/
END:VEVENT
BEGIN:VEVENT
DTSTART;TZID=Europe/Berlin:20191113T090000
DTEND;TZID=Europe/Berlin:20191113T093000
DTSTAMP:20260423T194656
CREATED:20190722T090310Z
LAST-MODIFIED:20191107T085006Z
UID:12495-1573635600-1573637400@present4d.com
SUMMARY:Overview and introduction to the VR-Suite (30 minutes)
DESCRIPTION:Create a VR presentation in just a couple of minutes with the VR-Suite. Learn how to use your existing media and information in a totally new and innovative way. \nNo software is needed to participate in the Webinar\, you can view it in your web browser from any device. \nRegister now for free: \nRegister Now
URL:https://present4d.com/en/webinar/webinar-how-to-create-a-vr-presentation-4-2-14-2/
END:VEVENT
BEGIN:VEVENT
DTSTART;TZID=Europe/Berlin:20191031T153000
DTEND;TZID=Europe/Berlin:20191031T163000
DTSTAMP:20260423T194656
CREATED:20190722T090310Z
LAST-MODIFIED:20190906T143233Z
UID:11783-1572535800-1572539400@present4d.com
SUMMARY:How to create added value with Virtual Reality and Q&A
DESCRIPTION:The advantages of Virtual Reality are endless\, but how can you create real added value for your business? \nCEO and VR Expert Markus Prenneis will talk about examples and references on how our customers have benefit from VR. \nGet to know the best use cases for the different industries and the advantages that VR can bring to your business. \nRegister now for free: \nRegister Now
URL:https://present4d.com/en/webinar/webinar-how-to-create-a-vr-presentation-4-2/
END:VEVENT
BEGIN:VEVENT
DTSTART;TZID=Europe/Berlin:20191029T153000
DTEND;TZID=Europe/Berlin:20191029T163000
DTSTAMP:20260423T194656
CREATED:20190722T090310Z
LAST-MODIFIED:20190906T143214Z
UID:11785-1572363000-1572366600@present4d.com
SUMMARY:How to create a VR Presentation in 5 Minutes and Q&A
DESCRIPTION:Create a VR presentation in just a couple of minutes together with the CEO & VR Expert Markus Prenneis. Learn how to use your existing media and information in a totally new and innovative way. \nNo software is needed to participate in the Webinar\, you can view it in your web browser from any device. \nRegister now for free: \nRegister Now
URL:https://present4d.com/en/webinar/webinar-how-to-create-a-vr-presentation-4-2-14/
END:VEVENT
BEGIN:VEVENT
DTSTART;TZID=Europe/Berlin:20191024T153000
DTEND;TZID=Europe/Berlin:20191024T163000
DTSTAMP:20260423T194656
CREATED:20190722T090310Z
LAST-MODIFIED:20190906T143153Z
UID:11800-1571931000-1571934600@present4d.com
SUMMARY:How to create added value with Virtual Reality and Q&A
DESCRIPTION:The advantages of Virtual Reality are endless\, but how can you create real added value for your business? \nCEO and VR Expert Markus Prenneis will talk about examples and references on how our customers have benefit from VR. \nGet to know the best use cases for the different industries and the advantages that VR can bring to your business. \nRegister now for free: \nRegister Now
URL:https://present4d.com/en/webinar/webinar-how-to-create-a-vr-presentation-4-2-13/
END:VEVENT
BEGIN:VEVENT
DTSTART;TZID=Europe/Berlin:20191022T153000
DTEND;TZID=Europe/Berlin:20191022T163000
DTSTAMP:20260423T194656
CREATED:20190722T090310Z
LAST-MODIFIED:20190906T143136Z
UID:11799-1571758200-1571761800@present4d.com
SUMMARY:How to create a VR Presentation in 5 Minutes and Q&A
DESCRIPTION:Create a VR presentation in just a couple of minutes together with the CEO & VR Expert Markus Prenneis. Learn how to use your existing media and information in a totally new and innovative way. \nNo software is needed to participate in the Webinar\, you can view it in your web browser from any device. \nRegister now for free: \nRegister Now
URL:https://present4d.com/en/webinar/webinar-how-to-create-a-vr-presentation-4-2-12/
END:VEVENT
BEGIN:VEVENT
DTSTART;TZID=Europe/Berlin:20191017T153000
DTEND;TZID=Europe/Berlin:20191017T163000
DTSTAMP:20260423T194656
CREATED:20190722T090310Z
LAST-MODIFIED:20190906T143118Z
UID:11798-1571326200-1571329800@present4d.com
SUMMARY:How to create added value with Virtual Reality and Q&A
DESCRIPTION:The advantages of Virtual Reality are endless\, but how can you create real added value for your business? \nCEO and VR Expert Markus Prenneis will talk about examples and references on how our customers have benefit from VR. \nGet to know the best use cases for the different industries and the advantages that VR can bring to your business. \nRegister now for free: \nRegister Now
URL:https://present4d.com/en/webinar/webinar-how-to-create-a-vr-presentation-4-2-11/
END:VEVENT
BEGIN:VEVENT
DTSTART;TZID=Europe/Berlin:20191015T153000
DTEND;TZID=Europe/Berlin:20191015T163000
DTSTAMP:20260423T194656
CREATED:20190722T090310Z
LAST-MODIFIED:20190906T143058Z
UID:11797-1571153400-1571157000@present4d.com
SUMMARY:How to create a VR Presentation in 5 Minutes and Q&A
DESCRIPTION:Create a VR presentation in just a couple of minutes together with the CEO & VR Expert Markus Prenneis. Learn how to use your existing media and information in a totally new and innovative way. \nNo software is needed to participate in the Webinar\, you can view it in your web browser from any device. \nRegister now for free: \nRegister Now
URL:https://present4d.com/en/webinar/webinar-how-to-create-a-vr-presentation-4-2-10/
END:VEVENT
BEGIN:VEVENT
DTSTART;TZID=Europe/Berlin:20191010T153000
DTEND;TZID=Europe/Berlin:20191010T163000
DTSTAMP:20260423T194656
CREATED:20190722T090310Z
LAST-MODIFIED:20190906T143040Z
UID:11796-1570721400-1570725000@present4d.com
SUMMARY:How to create added value with Virtual Reality and Q&A
DESCRIPTION:The advantages of Virtual Reality are endless\, but how can you create real added value for your business? \nCEO and VR Expert Markus Prenneis will talk about examples and references on how our customers have benefit from VR. \nGet to know the best use cases for the different industries and the advantages that VR can bring to your business. \nRegister now for free: \nRegister Now
URL:https://present4d.com/en/webinar/webinar-how-to-create-a-vr-presentation-4-2-9/
END:VEVENT
BEGIN:VEVENT
DTSTART;TZID=Europe/Berlin:20191008T153000
DTEND;TZID=Europe/Berlin:20191008T163000
DTSTAMP:20260423T194656
CREATED:20190722T090310Z
LAST-MODIFIED:20190906T142958Z
UID:11795-1570548600-1570552200@present4d.com
SUMMARY:How to create a VR Presentation in 5 Minutes and Q&A
DESCRIPTION:Create a VR presentation in just a couple of minutes together with the CEO & VR Expert Markus Prenneis. Learn how to use your existing media and information in a totally new and innovative way. \nNo software is needed to participate in the Webinar\, you can view it in your web browser from any device. \nRegister now for free: \nRegister Now
URL:https://present4d.com/en/webinar/webinar-how-to-create-a-vr-presentation-4-2-7/
END:VEVENT
BEGIN:VEVENT
DTSTART;TZID=Europe/Berlin:20191003T153000
DTEND;TZID=Europe/Berlin:20191003T163000
DTSTAMP:20260423T194656
CREATED:20190722T090310Z
LAST-MODIFIED:20190906T143015Z
UID:11794-1570116600-1570120200@present4d.com
SUMMARY:How to create added value with Virtual Reality and Q&A
DESCRIPTION:The advantages of Virtual Reality are endless\, but how can you create real added value for your business? \nCEO and VR Expert Markus Prenneis will talk about examples and references on how our customers have benefit from VR. \nGet to know the best use cases for the different industries and the advantages that VR can bring to your business. \nRegister now for free: \nRegister Now
URL:https://present4d.com/en/webinar/webinar-how-to-create-a-vr-presentation-4-2-8/
END:VEVENT
BEGIN:VEVENT
DTSTART;TZID=Europe/Berlin:20191001T153000
DTEND;TZID=Europe/Berlin:20191001T163000
DTSTAMP:20260423T194656
CREATED:20190722T090310Z
LAST-MODIFIED:20190906T142935Z
UID:11793-1569943800-1569947400@present4d.com
SUMMARY:How to create a VR Presentation in 5 Minutes and Q&A
DESCRIPTION:Create a VR presentation in just a couple of minutes together with the CEO & VR Expert Markus Prenneis. Learn how to use your existing media and information in a totally new and innovative way. \nNo software is needed to participate in the Webinar\, you can view it in your web browser from any device. \nRegister now for free: \nRegister Now
URL:https://present4d.com/en/webinar/webinar-how-to-create-a-vr-presentation-4-2-6/
END:VEVENT
BEGIN:VEVENT
DTSTART;TZID=Europe/Berlin:20190926T153000
DTEND;TZID=Europe/Berlin:20190926T163000
DTSTAMP:20260423T194656
CREATED:20190722T090310Z
LAST-MODIFIED:20190906T142912Z
UID:11792-1569511800-1569515400@present4d.com
SUMMARY:How to create added value with Virtual Reality and Q&A
DESCRIPTION:The advantages of Virtual Reality are endless\, but how can you create real added value for your business? \nCEO and VR Expert Markus Prenneis will talk about examples and references on how our customers have benefit from VR. \nGet to know the best use cases for the different industries and the advantages that VR can bring to your business. \nRegister now for free: \nRegister Now
URL:https://present4d.com/en/webinar/webinar-how-to-create-a-vr-presentation-4-2-5/
END:VEVENT
BEGIN:VEVENT
DTSTART;TZID=Europe/Berlin:20190924T153000
DTEND;TZID=Europe/Berlin:20190924T163000
DTSTAMP:20260423T194656
CREATED:20190722T090310Z
LAST-MODIFIED:20190906T142853Z
UID:11791-1569339000-1569342600@present4d.com
SUMMARY:How to create a VR Presentation in 5 Minutes and Q&A
DESCRIPTION:Create a VR presentation in just a couple of minutes together with the CEO & VR Expert Markus Prenneis. Learn how to use your existing media and information in a totally new and innovative way. \nNo software is needed to participate in the Webinar\, you can view it in your web browser from any device. \nRegister now for free: \nRegister Now
URL:https://present4d.com/en/webinar/webinar-how-to-create-a-vr-presentation-4-2-4/
END:VEVENT
BEGIN:VEVENT
DTSTART;TZID=Europe/Berlin:20190919T153000
DTEND;TZID=Europe/Berlin:20190919T163000
DTSTAMP:20260423T194656
CREATED:20190722T090310Z
LAST-MODIFIED:20190906T142834Z
UID:11790-1568907000-1568910600@present4d.com
SUMMARY:How to create added value with Virtual Reality and Q&A
DESCRIPTION:The advantages of Virtual Reality are endless\, but how can you create real added value for your business? \nCEO and VR Expert Markus Prenneis will talk about examples and references on how our customers have benefit from VR. \nGet to know the best use cases for the different industries and the advantages that VR can bring to your business. \nRegister now for free: \nRegister Now
URL:https://present4d.com/en/webinar/webinar-how-to-create-a-vr-presentation-4-2-3/
END:VEVENT
BEGIN:VEVENT
DTSTART;TZID=Europe/Berlin:20190917T153000
DTEND;TZID=Europe/Berlin:20190917T163000
DTSTAMP:20260423T194656
CREATED:20190722T090310Z
LAST-MODIFIED:20190906T142656Z
UID:11787-1568734200-1568737800@present4d.com
SUMMARY:How to create a VR Presentation in 5 Minutes and Q&A
DESCRIPTION:Create a VR presentation in just a couple of minutes together with the CEO & VR Expert Markus Prenneis. Learn how to use your existing media and information in a totally new and innovative way. \nNo software is needed to participate in the Webinar\, you can view it in your web browser from any device. \nRegister now for free: \nRegister Now
URL:https://present4d.com/en/webinar/webinar-how-to-create-a-vr-presentation-4-2-2/
END:VEVENT
END:VCALENDAR